BEGIN:VCALENDAR
VERSION:2.0
PRODID:-//Frog On A Hog - ECPv6.15.20//NONSGML v1.0//EN
CALSCALE:GREGORIAN
METHOD:PUBLISH
X-ORIGINAL-URL:https://frogonahog.com
X-WR-CALDESC:Events for Frog On A Hog
REFRESH-INTERVAL;VALUE=DURATION:PT1H
X-Robots-Tag:noindex
X-PUBLISHED-TTL:PT1H
BEGIN:VTIMEZONE
TZID:America/Chicago
BEGIN:DAYLIGHT
TZOFFSETFROM:-0600
TZOFFSETTO:-0500
TZNAME:CDT
DTSTART:20230312T080000
END:DAYLIGHT
BEGIN:STANDARD
TZOFFSETFROM:-0500
TZOFFSETTO:-0600
TZNAME:CST
DTSTART:20231105T070000
END:STANDARD
BEGIN:DAYLIGHT
TZOFFSETFROM:-0600
TZOFFSETTO:-0500
TZNAME:CDT
DTSTART:20240310T080000
END:DAYLIGHT
BEGIN:STANDARD
TZOFFSETFROM:-0500
TZOFFSETTO:-0600
TZNAME:CST
DTSTART:20241103T070000
END:STANDARD
BEGIN:DAYLIGHT
TZOFFSETFROM:-0600
TZOFFSETTO:-0500
TZNAME:CDT
DTSTART:20250309T080000
END:DAYLIGHT
BEGIN:STANDARD
TZOFFSETFROM:-0500
TZOFFSETTO:-0600
TZNAME:CST
DTSTART:20251102T070000
END:STANDARD
END:VTIMEZONE
BEGIN:VEVENT
DTSTART;VALUE=DATE:20241101
DTEND;VALUE=DATE:20241104
DTSTAMP:20260419T114232
CREATED:20240215T011049Z
LAST-MODIFIED:20240215T011400Z
UID:3771-1730419200-1730678399@frogonahog.com
SUMMARY:Galveston\, Texas - Lone Star Rally 2024
DESCRIPTION:Meet Frog in Galveston\, Texas at the. 2024 Lone Star Rally.
URL:https://frogonahog.com/event/galveston-texas-lone-star-rally-2024/
LOCATION:SC
CATEGORIES:event
ATTACH;FMTTYPE=image/jpeg:https://frogonahog.com/wp-content/uploads/2024/02/IMG_1498.jpeg
END:VEVENT
END:VCALENDAR